BEGIN:VCALENDAR
VERSION:2.0
PRODID:-//TrainingWorkx - ECPv6.15.20//NONSGML v1.0//EN
CALSCALE:GREGORIAN
METHOD:PUBLISH
X-WR-CALNAME:TrainingWorkx
X-ORIGINAL-URL:https://trainingworkx.co.za
X-WR-CALDESC:Events for TrainingWorkx
REFRESH-INTERVAL;VALUE=DURATION:PT1H
X-Robots-Tag:noindex
X-PUBLISHED-TTL:PT1H
BEGIN:VTIMEZONE
TZID:UTC
BEGIN:STANDARD
TZOFFSETFROM:+0000
TZOFFSETTO:+0000
TZNAME:UTC
DTSTART:20250101T000000
END:STANDARD
END:VTIMEZONE
BEGIN:VEVENT
DTSTART;TZID=UTC:20260512T090000
DTEND;TZID=UTC:20260513T170000
DTSTAMP:20260419T140858
CREATED:20260330T131459Z
LAST-MODIFIED:20260330T165424Z
UID:626-1778576400-1778691600@trainingworkx.co.za
SUMMARY:AI for Data Analytics\, BI & Fraud Detection
DESCRIPTION:A comprehensive 2-day masterclass covering AI-powered techniques for data analytics\, business intelligence\, and fraud detection. Learn to use AI tools to uncover insights\, build intelligent dashboards\, and detect anomalies in real-world datasets. \nDuration: 2 Days | Cost: R8\,500 per delegate (excl. VAT) \nMinimum delegates: 8
URL:https://trainingworkx.co.za/event/ai-for-data-analytics-bi-and-fraud-detection/
CATEGORIES:Events,Home
ATTACH;FMTTYPE=image/jpeg:https://trainingworkx.co.za/wp-content/uploads/2022/02/business-analytics-on-tablet-computer-2021-08-29-08-16-40-utc-scaled.jpg
END:VEVENT
BEGIN:VEVENT
DTSTART;TZID=UTC:20260519T090000
DTEND;TZID=UTC:20260520T170000
DTSTAMP:20260419T140858
CREATED:20260330T131516Z
LAST-MODIFIED:20260330T165516Z
UID:632-1779181200-1779296400@trainingworkx.co.za
SUMMARY:Building AI-Powered Dashboards with Python in Excel
DESCRIPTION:Master the fusion of Python and Excel to build intelligent\, AI-powered dashboards. This 2-day course teaches you how to automate data workflows\, create dynamic visualisations\, and embed machine learning models directly into Excel using Python. \nDuration: 2 Days | Cost: R8\,500 per delegate (excl. VAT) \nMinimum delegates: 8
URL:https://trainingworkx.co.za/event/python-in-excel-ai-powered-dashboards/
CATEGORIES:Events,Home
ATTACH;FMTTYPE=image/jpeg:https://trainingworkx.co.za/wp-content/uploads/2022/02/bearded-mentor-helping-young-colleague-working-wit-2021-08-30-19-58-40-utc-scaled.jpg
END:VEVENT
BEGIN:VEVENT
DTSTART;TZID=UTC:20260526T090000
DTEND;TZID=UTC:20260527T170000
DTSTAMP:20260419T140858
CREATED:20260330T131518Z
LAST-MODIFIED:20260330T165423Z
UID:624-1779786000-1779901200@trainingworkx.co.za
SUMMARY:Finance for Non-Financial Managers
DESCRIPTION:A practical 2-day workshop designed to give non-financial managers the financial literacy they need to make smarter business decisions. Covers budgeting\, financial statements\, cash flow\, and cost management. \nDuration: 2 Days | Cost: R5\,999 per delegate (excl. VAT) \nMinimum delegates: 8
URL:https://trainingworkx.co.za/event/finance-for-non-financial-managers/
CATEGORIES:Home
ATTACH;FMTTYPE=image/jpeg:https://trainingworkx.co.za/wp-content/uploads/2017/03/business-brainstorming-graph-chart-report-data-con-2022-01-28-09-06-58-utc-scaled.jpg
END:VEVENT
BEGIN:VEVENT
DTSTART;TZID=UTC:20260602T090000
DTEND;TZID=UTC:20260603T170000
DTSTAMP:20260419T140858
CREATED:20260330T131519Z
LAST-MODIFIED:20260330T165423Z
UID:620-1780390800-1780506000@trainingworkx.co.za
SUMMARY:Inventory and Stores Management
DESCRIPTION:Learn best practices for effective inventory control\, stores management\, and supply chain optimisation. This 2-day course covers stock control systems\, procurement processes\, and warehouse management principles. \nDuration: 2 Days | Cost: R5\,999 per delegate (excl. VAT) \nMinimum delegates: 8
URL:https://trainingworkx.co.za/event/inventory-and-stores-management/
CATEGORIES:Events,Home
ATTACH;FMTTYPE=image/jpeg:https://trainingworkx.co.za/wp-content/uploads/2017/03/cardboard-boxes-on-conveyor-belt-in-factory-or-war-2021-08-30-01-37-19-utc-scaled.jpg
END:VEVENT
BEGIN:VEVENT
DTSTART;TZID=UTC:20260609T090000
DTEND;TZID=UTC:20260610T170000
DTSTAMP:20260419T140858
CREATED:20260330T131521Z
LAST-MODIFIED:20260330T165512Z
UID:628-1780995600-1781110800@trainingworkx.co.za
SUMMARY:Advanced Data Science with Excel & Power BI
DESCRIPTION:Take your Excel skills to the next level with advanced data science techniques. This 2-day course covers statistical analysis\, predictive modelling\, Power Query\, Power Pivot\, and data visualisation using Excel. \nDuration: 2 Days | Cost: R5\,999 per delegate (excl. VAT) \nMinimum delegates: 8
URL:https://trainingworkx.co.za/event/advanced-data-science-with-excel/
CATEGORIES:Events,Home
ATTACH;FMTTYPE=image/jpeg:https://trainingworkx.co.za/wp-content/uploads/2017/03/business-people-working-on-a-laptop-2021-09-04-10-31-24-utc-scaled.jpg
END:VEVENT
END:VCALENDAR