BEGIN:VCALENDAR
VERSION:2.0
PRODID:-//TrainingWorkx - ECPv6.15.20//NONSGML v1.0//EN
CALSCALE:GREGORIAN
METHOD:PUBLISH
X-WR-CALNAME:TrainingWorkx
X-ORIGINAL-URL:https://trainingworkx.co.za
X-WR-CALDESC:Events for TrainingWorkx
REFRESH-INTERVAL;VALUE=DURATION:PT1H
X-Robots-Tag:noindex
X-PUBLISHED-TTL:PT1H
BEGIN:VTIMEZONE
TZID:UTC
BEGIN:STANDARD
TZOFFSETFROM:+0000
TZOFFSETTO:+0000
TZNAME:UTC
DTSTART:20250101T000000
END:STANDARD
END:VTIMEZONE
BEGIN:VEVENT
DTSTART;TZID=UTC:20260526T090000
DTEND;TZID=UTC:20260527T170000
DTSTAMP:20260419T154946
CREATED:20260330T131518Z
LAST-MODIFIED:20260330T165423Z
UID:624-1779786000-1779901200@trainingworkx.co.za
SUMMARY:Finance for Non-Financial Managers
DESCRIPTION:A practical 2-day workshop designed to give non-financial managers the financial literacy they need to make smarter business decisions. Covers budgeting\, financial statements\, cash flow\, and cost management. \nDuration: 2 Days | Cost: R5\,999 per delegate (excl. VAT) \nMinimum delegates: 8
URL:https://trainingworkx.co.za/event/finance-for-non-financial-managers/
CATEGORIES:Home
ATTACH;FMTTYPE=image/jpeg:https://trainingworkx.co.za/wp-content/uploads/2017/03/business-brainstorming-graph-chart-report-data-con-2022-01-28-09-06-58-utc-scaled.jpg
END:VEVENT
END:VCALENDAR