BEGIN:VCALENDAR
VERSION:2.0
PRODID:-//TrainingWorkx - ECPv6.15.20//NONSGML v1.0//EN
CALSCALE:GREGORIAN
METHOD:PUBLISH
X-WR-CALNAME:TrainingWorkx
X-ORIGINAL-URL:https://trainingworkx.co.za
X-WR-CALDESC:Events for TrainingWorkx
REFRESH-INTERVAL;VALUE=DURATION:PT1H
X-Robots-Tag:noindex
X-PUBLISHED-TTL:PT1H
BEGIN:VTIMEZONE
TZID:UTC
BEGIN:STANDARD
TZOFFSETFROM:+0000
TZOFFSETTO:+0000
TZNAME:UTC
DTSTART:20250101T000000
END:STANDARD
END:VTIMEZONE
BEGIN:VEVENT
DTSTART;TZID=UTC:20260512T090000
DTEND;TZID=UTC:20260513T170000
DTSTAMP:20260419T154957
CREATED:20260330T131459Z
LAST-MODIFIED:20260330T165424Z
UID:626-1778576400-1778691600@trainingworkx.co.za
SUMMARY:AI for Data Analytics\, BI & Fraud Detection
DESCRIPTION:A comprehensive 2-day masterclass covering AI-powered techniques for data analytics\, business intelligence\, and fraud detection. Learn to use AI tools to uncover insights\, build intelligent dashboards\, and detect anomalies in real-world datasets. \nDuration: 2 Days | Cost: R8\,500 per delegate (excl. VAT) \nMinimum delegates: 8
URL:https://trainingworkx.co.za/event/ai-for-data-analytics-bi-and-fraud-detection/
CATEGORIES:Events,Home
ATTACH;FMTTYPE=image/jpeg:https://trainingworkx.co.za/wp-content/uploads/2022/02/business-analytics-on-tablet-computer-2021-08-29-08-16-40-utc-scaled.jpg
END:VEVENT
END:VCALENDAR